BEGIN:VCALENDAR
VERSION:2.0
PRODID:-//eventon.com NONSGML v1.0//EN
CALSCALE:GREGORIAN
METHOD:PUBLISH
BEGIN:VEVENT
UID:69e73b6a5ad28
DTSTAMP:20260421T085506Z
DTSTART:20240620T120000Z
DTEND:20240620T180000Z
LOCATION:Grey Rock Motosports 85 CHIEF JOANNA BLVD\,  EDMUNDSTON\,  NB E7C 0C1
SUMMARY:Grey Rock Motosports Demo Day - Edmundston\,  New Brunswick
DESCRIPTION:Contact dealership for event information.\nhttps://www.suzuki.c
 a/events/grey-rock-motosports-demo-day/
URL:https://www.suzuki.ca/events/grey-rock-motosports-demo-day/
END:VEVENT
END:VCALENDAR