BEGIN:VCALENDAR
VERSION:2.0
PRODID:-//eventon.com NONSGML v1.0//EN
CALSCALE:GREGORIAN
METHOD:PUBLISH
BEGIN:VEVENT
UID:69e5df3b47d40
DTSTAMP:20260420T080931Z
DTSTART:20240620T160000Z
DTEND:20240620T220000Z
LOCATION:Rivercity Cycle &amp; Marine 1794 KELLY DOUGLAS ROAD\,  KAMLOOPS\,  BC\,  Canada\,  V2C 5S4
SUMMARY:Rivercity Cycle & Marine Demo Day - Kamloops\,  British Columbia
DESCRIPTION:Contact dealership for event information.\nhttps://www.suzuki.c
 a/events/rivercity-cycle-marine-demo-day/
URL:https://www.suzuki.ca/events/rivercity-cycle-marine-demo-day/
END:VEVENT
END:VCALENDAR