BEGIN:VCALENDAR
VERSION:2.0
PRODID:-//eventon.com NONSGML v1.0//EN
CALSCALE:GREGORIAN
METHOD:PUBLISH
BEGIN:VEVENT
UID:69e9d8385efe1
DTSTAMP:20260423T082840Z
DTSTART:20240524T130000Z
DTEND:20240524T190000Z
LOCATION:SM Sport 11337 Boulevard Valcartier\,  QC\,  Canada\,  G2A 2M4
SUMMARY:SM Sport Demo Day - Saint-Gabriel-de-Valcartier\,  Quebec
DESCRIPTION:Contact dealership for event information.\nhttps://www.suzuki.c
 a/events/sm-sport-demo-day/
URL:https://www.suzuki.ca/events/sm-sport-demo-day/
END:VEVENT
END:VCALENDAR