BEGIN:VCALENDAR
VERSION:2.0
PRODID:-//eventon.com NONSGML v1.0//EN
CALSCALE:GREGORIAN
METHOD:PUBLISH
BEGIN:VEVENT
UID:69e4a5a899e1e
DTSTAMP:20260419T095136Z
DTSTART:20250725T130000Z
DTEND:20250726T035900Z
LOCATION:SM Sport 11337 Boulevard Valcartier\,  QC\,  Canada\,  G2A 2M4
SUMMARY:SM Sport Demo Day
DESCRIPTION:Get Ready for Adventure with Suzuki Demo Days! Step into the su
 mmer excitement by experiencing the thrill of riding a brand-new Suzuki at 
 one of our participating dealerships. Why You Should Attend Suzuki Demo Day
 s: Explore the Latest Models: Gain exclusive access to the very latest in S
 uzuki’s lineup. Experience[..]\nhttps://www.suzuki.ca/events/sm-sport-dem
 o-day-2/
URL:https://www.suzuki.ca/events/sm-sport-demo-day-2/
END:VEVENT
END:VCALENDAR