BEGIN:VCALENDAR
VERSION:2.0
PRODID:-//eventon.com NONSGML v1.0//EN
CALSCALE:GREGORIAN
METHOD:PUBLISH
BEGIN:VEVENT
UID:69e9006e245a1
DTSTAMP:20260422T170758Z
DTSTART:20240612T130000Z
DTEND:20240612T190000Z
LOCATION:Gregoire Sport 2061\,  boul Barrette\,  Lourdes-de-Joliette\,  QC J0K 1K0
SUMMARY:Essais Routier Gregoire Sport - Lourdes-de-Joliette\,  Quebec
DESCRIPTION:Contactez le concessionnaire pour obtenir des informations sur 
 l’événement.\nhttps://www.suzuki.ca/fr/events/essais-routier-gregoire-s
 port/
URL:https://www.suzuki.ca/fr/events/essais-routier-gregoire-sport/
END:VEVENT
END:VCALENDAR