BEGIN:VCALENDAR
VERSION:2.0
PRODID:-//eventon.com NONSGML v1.0//EN
CALSCALE:GREGORIAN
METHOD:PUBLISH
BEGIN:VEVENT
UID:69e8887a99329
DTSTAMP:20260422T083610Z
DTSTART:20240620T160000Z
DTEND:20240620T220000Z
LOCATION:Rivercity Cycle &amp; Marine 1794 KELLY DOUGLAS ROAD\,  KAMLOOPS\,  BC\,  Canada\,  V2C 5S4
SUMMARY:Essais Routier Rivercity Cycle & Marine - Kamloops\,  British Columbia
DESCRIPTION:Contactez le concessionnaire pour obtenir des informations sur 
 l’événement.\nhttps://www.suzuki.ca/fr/events/essais-routier-rivercity-
 cycle-marine/
URL:https://www.suzuki.ca/fr/events/essais-routier-rivercity-cycle-marine/
END:VEVENT
END:VCALENDAR