BEGIN:VCALENDAR
VERSION:2.0
PRODID:-//eventon.com NONSGML v1.0//EN
CALSCALE:GREGORIAN
METHOD:PUBLISH
BEGIN:VEVENT
UID:69e5dfe495062
DTSTAMP:20260420T081220Z
DTSTART:20240718T130000Z
DTEND:20240718T190000Z
LOCATION:Xtreme FX Motorcycles &amp; Powersports 2800 Deziel Drive\,  Windsor\,  ON N8W 5H8\,  Canada
SUMMARY:Essais Routier Xtreme FX - Windsor\,  Ontario
DESCRIPTION:Contactez le concessionnaire pour obtenir des informations sur 
 l’événement.\nhttps://www.suzuki.ca/fr/events/essais-routier-xtreme-fx/
URL:https://www.suzuki.ca/fr/events/essais-routier-xtreme-fx/
END:VEVENT
END:VCALENDAR