BEGIN:VCALENDAR
VERSION:2.0
PRODID:-//eventon.com NONSGML v1.0//EN
CALSCALE:GREGORIAN
METHOD:PUBLISH
BEGIN:VEVENT
UID:69e8884c75cf6
DTSTAMP:20260422T083524Z
DTSTART:20240713T160000Z
DTEND:20240713T220000Z
LOCATION:All Season Motorsports 333 Van Horne St S.\,  Cranbrook BC\,  Canada\,  V1C 1Z6
SUMMARY:Essais Routier All Season Motorsports - Cranbrook\,  British Columbia
DESCRIPTION:Contactez le concessionnaire pour obtenir des informations sur 
 l’événement.\nhttps://www.suzuki.ca/fr/events/all-season-motorsports-de
 mo-day/
URL:https://www.suzuki.ca/fr/events/all-season-motorsports-demo-day/
END:VEVENT
END:VCALENDAR