BEGIN:VCALENDAR
VERSION:2.0
PRODID:-//eventon.com NONSGML v1.0//EN
CALSCALE:GREGORIAN
METHOD:PUBLISH
BEGIN:VEVENT
UID:69e5dfc4523c6
DTSTAMP:20260420T081148Z
DTSTART:20250918T120000Z
DTEND:20250920T160000Z
LOCATION:Gooderham Community Centre 1043 Community Centre Road\, 
SUMMARY:VTT: Le Corduroy Enduro
DESCRIPTION:Le Corduroy Enduro se déroule depuis 70 ans\,  avec des coureu
 rs de tout l&#8217;Amérique du Nord venant s&#8217;affronter pendant deux 
 jours difficiles dans la région des chalets de l&#8217;Ontario. En plus de
  l&#8217;enduro principal de deux jours\,  le Corduroy Enduro propose égal
 ement : 4 jours d&#8217;essais de modèles 2025 de[..]\nhttps://www.suzuki.
 ca/fr/events/the-corduroy-enduro/
URL:https://www.suzuki.ca/fr/events/the-corduroy-enduro/
END:VEVENT
END:VCALENDAR